BEGIN:VCALENDAR
VERSION:2.0
PRODID:-//IEM - Emergencia Training - ECPv6.15.15//NONSGML v1.0//EN
CALSCALE:GREGORIAN
METHOD:PUBLISH
X-ORIGINAL-URL:https://web.iem-emergencia.com/es
X-WR-CALDESC:Eventos para IEM - Emergencia Training
REFRESH-INTERVAL;VALUE=DURATION:PT1H
X-Robots-Tag:noindex
X-PUBLISHED-TTL:PT1H
BEGIN:VTIMEZONE
TZID:Europe/Madrid
BEGIN:DAYLIGHT
TZOFFSETFROM:+0100
TZOFFSETTO:+0200
TZNAME:CEST
DTSTART:20250330T010000
END:DAYLIGHT
BEGIN:STANDARD
TZOFFSETFROM:+0200
TZOFFSETTO:+0100
TZNAME:CET
DTSTART:20251026T010000
END:STANDARD
BEGIN:DAYLIGHT
TZOFFSETFROM:+0100
TZOFFSETTO:+0200
TZNAME:CEST
DTSTART:20260329T010000
END:DAYLIGHT
BEGIN:STANDARD
TZOFFSETFROM:+0200
TZOFFSETTO:+0100
TZNAME:CET
DTSTART:20261025T010000
END:STANDARD
BEGIN:DAYLIGHT
TZOFFSETFROM:+0100
TZOFFSETTO:+0200
TZNAME:CEST
DTSTART:20270328T010000
END:DAYLIGHT
BEGIN:STANDARD
TZOFFSETFROM:+0200
TZOFFSETTO:+0100
TZNAME:CET
DTSTART:20271031T010000
END:STANDARD
END:VTIMEZONE
BEGIN:VEVENT
DTSTART;VALUE=DATE:20260619
DTEND;VALUE=DATE:20260622
DTSTAMP:20260424T120449
CREATED:20260204T114726Z
LAST-MODIFIED:20260204T114747Z
UID:10000196-1781827200-1782086399@web.iem-emergencia.com
SUMMARY:Curso ETC
DESCRIPTION:Se trata de un curso innovador y multidisciplinario\, con una fase presencial de dos días y medio de duración\, dirigido a profesionales de la medicina y la enfermería\, involucrados en el cuidado inicial de pacienles traumáticos graves. En esta fase se parte de la base de que los participantes ya están familiarizados con el soporte vital avanzado\, con el manejo del paciente traumático grave y han estudiado previamente el manual propio del curso. \nSoporte Vital Avanzado (SVA) del ERC y/o en atención inicial al paciente politraumático\, como el SVAT\, el ATLS\, el PHTLS\, el ITLS\, el AITP o el SVATP\, para poder aprovechar y superar en mejores condiciones este curso.
URL:https://web.iem-emergencia.com/es/event/curso-etc/
LOCATION:Instituto Estudios Médicos\, Salvador Espriu\, 73-75\, Barcelona\, Barcelona\, 08005\, España
CATEGORIES:Presencial,Urgencias traumáticas
ORGANIZER;CN="Instituto de Estudios M%C3%A9dicos":MAILTO:info@iem-emergencia.com
END:VEVENT
END:VCALENDAR